BEGIN:VCALENDAR
VERSION:2.0
PRODID:-//Resele - ECPv6.15.20//NONSGML v1.0//EN
CALSCALE:GREGORIAN
METHOD:PUBLISH
X-WR-CALNAME:Resele
X-ORIGINAL-URL:https://resele.se
X-WR-CALDESC:Händelser för Resele
REFRESH-INTERVAL;VALUE=DURATION:PT1H
X-Robots-Tag:noindex
X-PUBLISHED-TTL:PT1H
BEGIN:VTIMEZONE
TZID:Europe/Stockholm
BEGIN:DAYLIGHT
TZOFFSETFROM:+0100
TZOFFSETTO:+0200
TZNAME:CEST
DTSTART:20250330T010000
END:DAYLIGHT
BEGIN:STANDARD
TZOFFSETFROM:+0200
TZOFFSETTO:+0100
TZNAME:CET
DTSTART:20251026T010000
END:STANDARD
BEGIN:DAYLIGHT
TZOFFSETFROM:+0100
TZOFFSETTO:+0200
TZNAME:CEST
DTSTART:20260329T010000
END:DAYLIGHT
BEGIN:STANDARD
TZOFFSETFROM:+0200
TZOFFSETTO:+0100
TZNAME:CET
DTSTART:20261025T010000
END:STANDARD
BEGIN:DAYLIGHT
TZOFFSETFROM:+0100
TZOFFSETTO:+0200
TZNAME:CEST
DTSTART:20270328T010000
END:DAYLIGHT
BEGIN:STANDARD
TZOFFSETFROM:+0200
TZOFFSETTO:+0100
TZNAME:CET
DTSTART:20271031T010000
END:STANDARD
END:VTIMEZONE
BEGIN:VEVENT
DTSTART;TZID=Europe/Stockholm:20260719T130000
DTEND;TZID=Europe/Stockholm:20260719T140000
DTSTAMP:20260425T145009
CREATED:20260417T180847Z
LAST-MODIFIED:20260417T180847Z
UID:10927-1784466000-1784469600@resele.se
SUMMARY:Blomsterparty Barnföreställning
DESCRIPTION:Välkommen till Resele Hembygdsgård för barnteater! \nEn upplevande-teater\, fritt efter Elsa Beskows klassiska saga ”Blomsterfesten i täppan”. \nInträde \nBarn 0-12 år      Fri entré\nVuxen 13+ år     100 kr \nServeringen på hembygdsgården är öppen 13.00-17.00 med försäljning av fika\, korv mm. \nLoppisen öppnar efter föreställningen är avslutad\, ca 14.00-17.00. \n \n  \nOm föreställningen: \n”Här får vi följa berättelsen om när den förnäma rosen möter den missförstådda  \ntisteln och den muntra\, rebelliska rallarrosen. Det är en fantasifull\, sinnlig och utforskand \ne föreställning om blommor och växter. Barnen får stiga in i den magiska trädgården och välja \n en grönskande sittplats innanför väggarna på ett vackert grönskande tält. Där vävs sagan fram med dockspel\, levande musik\, dans och rörelse samt berättande och publikens egen delaktighet.” \nArrangör: Resele Hembygdsförening\nKulturutövare: SkogsnäsTeatern \n  \n          
URL:https://resele.se/event/blomsterparty-barnforestallning/
LOCATION:Hembygdsgården\, Tängsta 159\, Sollefteå\, 881 96\, Sverige
CATEGORIES:Resele
ATTACH;FMTTYPE=image/jpeg:https://resele.se/wp-content/uploads/2026/04/Blomsterparty-affisch-web.jpg
END:VEVENT
END:VCALENDAR