BEGIN:VCALENDAR
VERSION:2.0
PRODID:-//Resele - ECPv6.15.20//NONSGML v1.0//EN
CALSCALE:GREGORIAN
METHOD:PUBLISH
X-ORIGINAL-URL:https://resele.se
X-WR-CALDESC:Händelser för Resele
REFRESH-INTERVAL;VALUE=DURATION:PT1H
X-Robots-Tag:noindex
X-PUBLISHED-TTL:PT1H
BEGIN:VTIMEZONE
TZID:Europe/Stockholm
BEGIN:DAYLIGHT
TZOFFSETFROM:+0100
TZOFFSETTO:+0200
TZNAME:CEST
DTSTART:20250330T010000
END:DAYLIGHT
BEGIN:STANDARD
TZOFFSETFROM:+0200
TZOFFSETTO:+0100
TZNAME:CET
DTSTART:20251026T010000
END:STANDARD
BEGIN:DAYLIGHT
TZOFFSETFROM:+0100
TZOFFSETTO:+0200
TZNAME:CEST
DTSTART:20260329T010000
END:DAYLIGHT
BEGIN:STANDARD
TZOFFSETFROM:+0200
TZOFFSETTO:+0100
TZNAME:CET
DTSTART:20261025T010000
END:STANDARD
BEGIN:DAYLIGHT
TZOFFSETFROM:+0100
TZOFFSETTO:+0200
TZNAME:CEST
DTSTART:20270328T010000
END:DAYLIGHT
BEGIN:STANDARD
TZOFFSETFROM:+0200
TZOFFSETTO:+0100
TZNAME:CET
DTSTART:20271031T010000
END:STANDARD
END:VTIMEZONE
BEGIN:VEVENT
DTSTART;TZID=Europe/Stockholm:20260225T180000
DTEND;TZID=Europe/Stockholm:20260225T210000
DTSTAMP:20260425T181449
CREATED:20251119T063039Z
LAST-MODIFIED:20260213T105023Z
UID:10805-1772042400-1772053200@resele.se
SUMMARY:Välkommen till hantverks- och hobbykväll på Hembygdsgården i Resele
DESCRIPTION:Ta med din stickning\, symaskin eller annat pyssel \nså umgås vi och fikar tillsammans. \n  \nDeltagandet är gratis\, och vi bjuder på fika. Oavsett erfarenhet\, \nålder och kön ser vi fram emot din medverkan. \n14 januari\, 28 januari\, 11 februari och 25 februari kl. 18\,00 – 21\,00 \n  \nFinns det fortsatt intresse efter februari\, kommer vi planera in ytterligare \nträffar under våren. \n  \nVarma Hälsningar \nStyrelsen Resele Hembygdsförening \n 
URL:https://resele.se/event/valkommen-till-hantverks-och-hobbykvall-pa-hembygdsgarden-i-resele/
LOCATION:Hembygdsgården\, Tängsta 159\, Sollefteå\, 881 96\, Sverige
ATTACH;FMTTYPE=image/jpeg:https://resele.se/wp-content/uploads/2023/01/hembygdsforen.jpg
END:VEVENT
END:VCALENDAR