BEGIN:VCALENDAR
VERSION:2.0
PRODID:-//Resele - ECPv6.15.20//NONSGML v1.0//EN
CALSCALE:GREGORIAN
METHOD:PUBLISH
X-WR-CALNAME:Resele
X-ORIGINAL-URL:https://resele.se
X-WR-CALDESC:Händelser för Resele
REFRESH-INTERVAL;VALUE=DURATION:PT1H
X-Robots-Tag:noindex
X-PUBLISHED-TTL:PT1H
BEGIN:VTIMEZONE
TZID:Europe/Stockholm
BEGIN:DAYLIGHT
TZOFFSETFROM:+0100
TZOFFSETTO:+0200
TZNAME:CEST
DTSTART:20250330T010000
END:DAYLIGHT
BEGIN:STANDARD
TZOFFSETFROM:+0200
TZOFFSETTO:+0100
TZNAME:CET
DTSTART:20251026T010000
END:STANDARD
BEGIN:DAYLIGHT
TZOFFSETFROM:+0100
TZOFFSETTO:+0200
TZNAME:CEST
DTSTART:20260329T010000
END:DAYLIGHT
BEGIN:STANDARD
TZOFFSETFROM:+0200
TZOFFSETTO:+0100
TZNAME:CET
DTSTART:20261025T010000
END:STANDARD
BEGIN:DAYLIGHT
TZOFFSETFROM:+0100
TZOFFSETTO:+0200
TZNAME:CEST
DTSTART:20270328T010000
END:DAYLIGHT
BEGIN:STANDARD
TZOFFSETFROM:+0200
TZOFFSETTO:+0100
TZNAME:CET
DTSTART:20271031T010000
END:STANDARD
END:VTIMEZONE
BEGIN:VEVENT
DTSTART;TZID=Europe/Stockholm:20260530T110000
DTEND;TZID=Europe/Stockholm:20260530T130000
DTSTAMP:20260425T125913
CREATED:20260417T182931Z
LAST-MODIFIED:20260417T182931Z
UID:10934-1780138800-1780146000@resele.se
SUMMARY:Reseleklassikern Löpning/Gång
DESCRIPTION:Välkommen till Reseleklassikerns andra lopp!\nDelta genom löpning eller gång\, eller närvara som supporter. \n  \nÖppet spår med start kl11.00! \nStart och målgång på Hembygdsgården. \nHuvudsträckan är 3 km\nEn kortare sträcka finns för barn att välja om den anses mer passande. \n  \nFörsäljning av hembakt fikabröd och mat på hembygdsgården! \nLoppisen hålls öppen under loppet. I höstas fick vi in ett stort parti nya loppisprylar. Passa på att kika in under denna dag när loppisen har premiär för i år. \n  \nDeltagande\n0-12 år       GRATIS\n13+ år         80 kr \nINGEN FÖRANMÄLAN KRÄVS \n  \nLoppet arrangeras av Resele Hembygdsförening\nSamverkan mellan Resele IF\, Resele Hembygdsförening och Resele Byalag
URL:https://resele.se/event/reseleklassikern-lopning-gang/
LOCATION:Hembygdsgården\, Tängsta 159\, Sollefteå\, 881 96\, Sverige
CATEGORIES:Resele
ATTACH;FMTTYPE=image/jpeg:https://resele.se/wp-content/uploads/2026/04/Reseleklassikern-affisch.jpg
END:VEVENT
END:VCALENDAR